BEGIN:VCALENDAR
VERSION:2.0
PRODID:-//Kantum Formations - ECPv6.15.20//NONSGML v1.0//EN
CALSCALE:GREGORIAN
METHOD:PUBLISH
X-WR-CALNAME:Kantum Formations
X-ORIGINAL-URL:https://kantum-formations.com
X-WR-CALDESC:Évènements pour Kantum Formations
REFRESH-INTERVAL;VALUE=DURATION:PT1H
X-Robots-Tag:noindex
X-PUBLISHED-TTL:PT1H
BEGIN:VTIMEZONE
TZID:Europe/Zurich
BEGIN:DAYLIGHT
TZOFFSETFROM:+0100
TZOFFSETTO:+0200
TZNAME:CEST
DTSTART:20250330T010000
END:DAYLIGHT
BEGIN:STANDARD
TZOFFSETFROM:+0200
TZOFFSETTO:+0100
TZNAME:CET
DTSTART:20251026T010000
END:STANDARD
BEGIN:DAYLIGHT
TZOFFSETFROM:+0100
TZOFFSETTO:+0200
TZNAME:CEST
DTSTART:20260329T010000
END:DAYLIGHT
BEGIN:STANDARD
TZOFFSETFROM:+0200
TZOFFSETTO:+0100
TZNAME:CET
DTSTART:20261025T010000
END:STANDARD
BEGIN:DAYLIGHT
TZOFFSETFROM:+0100
TZOFFSETTO:+0200
TZNAME:CEST
DTSTART:20270328T010000
END:DAYLIGHT
BEGIN:STANDARD
TZOFFSETFROM:+0200
TZOFFSETTO:+0100
TZNAME:CET
DTSTART:20271031T010000
END:STANDARD
END:VTIMEZONE
BEGIN:VEVENT
DTSTART;TZID=Europe/Zurich:20260425T090000
DTEND;TZID=Europe/Zurich:20260426T180000
DTSTAMP:20260421T122546
CREATED:20250205T141500Z
LAST-MODIFIED:20260129T084027Z
UID:1453-1777107600-1777226400@kantum-formations.com
SUMMARY:Formation Dien Chan – Réflexologie Faciale – Module 3
DESCRIPTION:Formation officielle en réflexologie faciale vietnamienne avec transmission directe du Centre International de l’École du Professeur Bùi Quốc Châu.
URL:https://kantum-formations.com/inscription/formation-dien-chan-reflexologie-faciale-module-3-2026/
LOCATION:Kantum Formations\, Grande rue 5\, Chexbres\, 1074\, Switzerland
CATEGORIES:Mai Phan Thi
ATTACH;FMTTYPE=image/png:https://kantum-formations.com/wp-content/uploads/2026/01/Mai_Phan_Thi-2-510x491-1.png
END:VEVENT
BEGIN:VEVENT
DTSTART;TZID=Europe/Zurich:20260425T090000
DTEND;TZID=Europe/Zurich:20260426T180000
DTSTAMP:20260421T122546
CREATED:20250318T140819Z
LAST-MODIFIED:20250318T140911Z
UID:1849-1777107600-1777226400@kantum-formations.com
SUMMARY:Transgénérationnel - Module 8
DESCRIPTION:Comprendre les mémoires familiales et leurs impacts sur notre santé et notre bien-être à travers une approche psycho-somato-généalogique.
URL:https://kantum-formations.com/inscription/transgenerationnel-module-8/
LOCATION:Kantum Formations\, Grande rue 5\, Chexbres\, 1074\, Switzerland
CATEGORIES:Dr Jean-Claude Fajeau
ATTACH;FMTTYPE=image/png:https://kantum-formations.com/wp-content/uploads/2025/01/Fajeau-510x510-1.png
END:VEVENT
BEGIN:VEVENT
DTSTART;TZID=Europe/Zurich:20260509T090000
DTEND;TZID=Europe/Zurich:20260510T180000
DTSTAMP:20260421T122546
CREATED:20260128T101817Z
LAST-MODIFIED:20260129T084005Z
UID:2262-1778317200-1778436000@kantum-formations.com
SUMMARY:Formation Dien Chan – Réflexologie Faciale - Module 1
DESCRIPTION:Formation officielle en réflexologie faciale vietnamienne avec transmission directe du Centre International de l’École du Professeur Bùi Quốc Châu.
URL:https://kantum-formations.com/inscription/formation-dien-chan-reflexologie-faciale-module-1-3/
LOCATION:Kantum Formations\, Grande rue 5\, Chexbres\, 1074\, Switzerland
CATEGORIES:Mai Phan Thi
ATTACH;FMTTYPE=image/png:https://kantum-formations.com/wp-content/uploads/2025/01/MAI_Phan_Thi-1-510x491-1.png
END:VEVENT
BEGIN:VEVENT
DTSTART;TZID=Europe/Zurich:20260516T090000
DTEND;TZID=Europe/Zurich:20260517T180000
DTSTAMP:20260421T122546
CREATED:20260128T101124Z
LAST-MODIFIED:20260205T135140Z
UID:2256-1778922000-1779040800@kantum-formations.com
SUMMARY:Qi Gong Médical
DESCRIPTION:Développez et maîtrisez l’énergie vitale (Chi) grâce aux pratiques de Qi Gong\, respiration et méditation\, pour une utilisation consciente et efficace dans les soins énergétiques.
URL:https://kantum-formations.com/inscription/qi-gong-medical/
LOCATION:Kantum Formations\, Grande rue 5\, Chexbres\, 1074\, Switzerland
CATEGORIES:Dennis KP Wang
ATTACH;FMTTYPE=image/png:https://kantum-formations.com/wp-content/uploads/2026/01/DennisKPWang-510x510-1-510x510-1.png
END:VEVENT
BEGIN:VEVENT
DTSTART;TZID=Europe/Zurich:20260627T090000
DTEND;TZID=Europe/Zurich:20260628T180000
DTSTAMP:20260421T122546
CREATED:20250205T141526Z
LAST-MODIFIED:20260129T084018Z
UID:1455-1782550800-1782669600@kantum-formations.com
SUMMARY:Formation Dien Chan – Réflexologie Faciale – Module 4
DESCRIPTION:Formation officielle en réflexologie faciale vietnamienne avec transmission directe du Centre International de l’École du Professeur Bùi Quốc Châu.
URL:https://kantum-formations.com/inscription/formation-dien-chan-reflexologie-faciale-module-4-2026/
LOCATION:Kantum Formations\, Grande rue 5\, Chexbres\, 1074\, Switzerland
CATEGORIES:Mai Phan Thi
ATTACH;FMTTYPE=image/png:https://kantum-formations.com/wp-content/uploads/2026/01/Mai_Phan_Thi-2-510x491-1.png
END:VEVENT
BEGIN:VEVENT
DTSTART;TZID=Europe/Zurich:20260822T090000
DTEND;TZID=Europe/Zurich:20260823T180000
DTSTAMP:20260421T122546
CREATED:20260128T101826Z
LAST-MODIFIED:20260129T083957Z
UID:2263-1787389200-1787508000@kantum-formations.com
SUMMARY:Formation Dien Chan – Réflexologie Faciale - Module 1
DESCRIPTION:Formation officielle en réflexologie faciale vietnamienne avec transmission directe du Centre International de l’École du Professeur Bùi Quốc Châu.
URL:https://kantum-formations.com/inscription/formation-dien-chan-reflexologie-faciale-module-1-4/
LOCATION:Kantum Formations\, Grande rue 5\, Chexbres\, 1074\, Switzerland
CATEGORIES:Mai Phan Thi
ATTACH;FMTTYPE=image/png:https://kantum-formations.com/wp-content/uploads/2026/01/Mai_Phan_Thi-2-510x491-1.png
END:VEVENT
BEGIN:VEVENT
DTSTART;TZID=Europe/Zurich:20260825T090000
DTEND;TZID=Europe/Zurich:20260829T180000
DTSTAMP:20260421T122546
CREATED:20250610T115117Z
LAST-MODIFIED:20250610T115259Z
UID:1996-1787648400-1788026400@kantum-formations.com
SUMMARY:Création et Optimisation d'Outils Numériques
DESCRIPTION:Apprendre à créer un site web et optimiser sa présence sur les réseaux sociaux pour une meilleure visibilité professionnelle.
URL:https://kantum-formations.com/inscription/creation-et-optimisation-doutils-numeriques-2/
LOCATION:Kantum Formations\, Grande rue 5\, Chexbres\, 1074\, Switzerland
CATEGORIES:Erine Juzyk
ATTACH;FMTTYPE=image/png:https://kantum-formations.com/wp-content/uploads/2025/02/portrait_Erine-1024x1024-1.png
END:VEVENT
BEGIN:VEVENT
DTSTART;TZID=Europe/Zurich:20260905T090000
DTEND;TZID=Europe/Zurich:20260906T180000
DTSTAMP:20260421T122546
CREATED:20260128T101901Z
LAST-MODIFIED:20260129T083950Z
UID:2266-1788598800-1788717600@kantum-formations.com
SUMMARY:Formation Dien Chan – Réflexologie Faciale - Module 2
DESCRIPTION:Formation officielle en réflexologie faciale vietnamienne avec transmission directe du Centre International de l’École du Professeur Bùi Quốc Châu.
URL:https://kantum-formations.com/inscription/formation-dien-chan-reflexologie-faciale-module-2-2/
LOCATION:Kantum Formations\, Grande rue 5\, Chexbres\, 1074\, Switzerland
CATEGORIES:Mai Phan Thi
ATTACH;FMTTYPE=image/png:https://kantum-formations.com/wp-content/uploads/2026/01/Mai_Phan_Thi-2-510x491-1.png
END:VEVENT
BEGIN:VEVENT
DTSTART;TZID=Europe/Zurich:20260912T090000
DTEND;TZID=Europe/Zurich:20260913T180000
DTSTAMP:20260421T122546
CREATED:20260128T102245Z
LAST-MODIFIED:20260129T090106Z
UID:2272-1789203600-1789322400@kantum-formations.com
SUMMARY:Formation Dien Chan – Réflexologie Faciale – Module 5
DESCRIPTION:Ce qui est beau de l’intérieur se voit de l’extérieur. Bien-être et harmonisation.
URL:https://kantum-formations.com/inscription/formation-dien-chan-reflexologie-faciale-module-5/
LOCATION:Kantum Formations\, Grande rue 5\, Chexbres\, 1074\, Switzerland
CATEGORIES:Mai Phan Thi
ATTACH;FMTTYPE=image/png:https://kantum-formations.com/wp-content/uploads/2026/01/Mai_Phan_Thi-2-510x491-1.png
END:VEVENT
BEGIN:VEVENT
DTSTART;TZID=Europe/Zurich:20261010T090000
DTEND;TZID=Europe/Zurich:20261011T180000
DTSTAMP:20260421T122546
CREATED:20260128T102055Z
LAST-MODIFIED:20260129T083943Z
UID:2268-1791622800-1791741600@kantum-formations.com
SUMMARY:Formation Dien Chan – Réflexologie Faciale – Module 3
DESCRIPTION:Formation officielle en réflexologie faciale vietnamienne avec transmission directe du Centre International de l’École du Professeur Bùi Quốc Châu.
URL:https://kantum-formations.com/inscription/formation-dien-chan-reflexologie-faciale-module-3-2/
LOCATION:Kantum Formations\, Grande rue 5\, Chexbres\, 1074\, Switzerland
CATEGORIES:Mai Phan Thi
ATTACH;FMTTYPE=image/png:https://kantum-formations.com/wp-content/uploads/2025/01/MAI_Phan_Thi-1-510x491-1.png
END:VEVENT
BEGIN:VEVENT
DTSTART;TZID=Europe/Zurich:20261107T090000
DTEND;TZID=Europe/Zurich:20261108T180000
DTSTAMP:20260421T122546
CREATED:20260128T102144Z
LAST-MODIFIED:20260129T083936Z
UID:2269-1794042000-1794160800@kantum-formations.com
SUMMARY:Formation Dien Chan – Réflexologie Faciale – Module 4
DESCRIPTION:Formation officielle en réflexologie faciale vietnamienne avec transmission directe du Centre International de l’École du Professeur Bùi Quốc Châu.
URL:https://kantum-formations.com/inscription/formation-dien-chan-reflexologie-faciale-module-4-2/
LOCATION:Kantum Formations\, Grande rue 5\, Chexbres\, 1074\, Switzerland
CATEGORIES:Mai Phan Thi
ATTACH;FMTTYPE=image/png:https://kantum-formations.com/wp-content/uploads/2026/01/Mai_Phan_Thi-2-510x491-1.png
END:VEVENT
BEGIN:VEVENT
DTSTART;TZID=Europe/Zurich:20261205T090000
DTEND;TZID=Europe/Zurich:20261206T180000
DTSTAMP:20260421T122546
CREATED:20260128T102325Z
LAST-MODIFIED:20260129T083922Z
UID:2274-1796461200-1796580000@kantum-formations.com
SUMMARY:Formation Dien Chan – Réflexologie Faciale – Module 5
DESCRIPTION:Ce qui est beau de l’intérieur se voit de l’extérieur. Bien-être et harmonisation.
URL:https://kantum-formations.com/inscription/formation-dien-chan-reflexologie-faciale-module-5-2/
LOCATION:Kantum Formations\, Grande rue 5\, Chexbres\, 1074\, Switzerland
CATEGORIES:Mai Phan Thi
ATTACH;FMTTYPE=image/png:https://kantum-formations.com/wp-content/uploads/2026/01/Mai_Phan_Thi-2-510x491-1.png
END:VEVENT
END:VCALENDAR